BEGIN:VCALENDAR
VERSION:2.0
PRODID:-//Zero to Three - ECDHS - ECPv6.15.20//NONSGML v1.0//EN
CALSCALE:GREGORIAN
METHOD:PUBLISH
X-WR-CALNAME:Zero to Three - ECDHS
X-ORIGINAL-URL:https://earlychildhoodimpact.org
X-WR-CALDESC:Events for Zero to Three - ECDHS
REFRESH-INTERVAL;VALUE=DURATION:PT1H
X-Robots-Tag:noindex
X-PUBLISHED-TTL:PT1H
BEGIN:VTIMEZONE
TZID:America/New_York
BEGIN:DAYLIGHT
TZOFFSETFROM:-0500
TZOFFSETTO:-0400
TZNAME:EDT
DTSTART:20230312T070000
END:DAYLIGHT
BEGIN:STANDARD
TZOFFSETFROM:-0400
TZOFFSETTO:-0500
TZNAME:EST
DTSTART:20231105T060000
END:STANDARD
BEGIN:DAYLIGHT
TZOFFSETFROM:-0500
TZOFFSETTO:-0400
TZNAME:EDT
DTSTART:20240310T070000
END:DAYLIGHT
BEGIN:STANDARD
TZOFFSETFROM:-0400
TZOFFSETTO:-0500
TZNAME:EST
DTSTART:20241103T060000
END:STANDARD
BEGIN:DAYLIGHT
TZOFFSETFROM:-0500
TZOFFSETTO:-0400
TZNAME:EDT
DTSTART:20250309T070000
END:DAYLIGHT
BEGIN:STANDARD
TZOFFSETFROM:-0400
TZOFFSETTO:-0500
TZNAME:EST
DTSTART:20251102T060000
END:STANDARD
END:VTIMEZONE
BEGIN:VEVENT
DTSTART;TZID=America/New_York:20240516T160000
DTEND;TZID=America/New_York:20240516T173000
DTSTAMP:20260424T064450
CREATED:20240408T172451Z
LAST-MODIFIED:20250129T163716Z
UID:1202-1715875200-1715880600@earlychildhoodimpact.org
SUMMARY:Systems Change in Early Childhood Using the Water of Systems Change Framework
DESCRIPTION:Partner Webinar: Economic Security as a Foundation for Healthy Development\n\n\n\n\n\n\n\n\n\n	\n		\n		\n		\n					\n				Join the Safe Babies program for a webinar on economic security for the healthy development of young children and their families.			\n			\n\n\n\n\n\n\n\n\n\n	\n		\n			\n				\n					\n						\n					\n				\n				Email			\n		\n				\n			\n				\n					\n						\n						\n					\n				\n				Print			\n		\n		\n			\n				\n					\n						\n					\n				\n				Copy Link			\n			\n			\n		\n	\n\n\n\n\n\n	\n					\n				Child Welfare\n			\n					\n				Partnerships and Collaboration\n			\n									\n				Early Childhood and Family Support Professionals\n			\n					\n				Early Childhood Systems Leaders and Partners\n			\n					\n				Family Leaders\n			\n			\n\n\n\n\n \n\n\n\n\n\n\n\nSystems change is about shifting the conditions that hold a problem in place – The Water of Systems Change framework provides an actionable model that early childhood system leaders can use to produce measurable\, lasting impact.   \n\n\n\nJoin the Early Childhood Developmental Health Systems (ECDHS): Evidence to Impact Center on Thursday\, May 16\, 2024\, from 4-5:30 PM EDT for the webinar “Systems Change in Early Childhood Using the Water of Systems Change Framework.” \n\n\n\n \n\n\n\n\n\n\n\n\n\n\nMelissa Passarelli\, associate director of implementation and system-building at Help Me Grow National Center\, and Jennifer Splansky Juster\, executive director at Collective Impact Forum\, will introduce The Water of Systems Change and how it can be applied to early childhood systems-building work. They will explore six interdependent conditions that vary from “explicit” to “implicit”:   \n\n\n\n\nStructural Change (explicit): policies\, practices\, resource flows  \n\n\n\nRelational Change (semi-explicit): relationships & connections\, power dynamics  \n\n\n\nTransformative Change (implicit): mental models  \n\n\n\n\n \n\n\n\nThis webinar will help early childhood and health systems leaders – including Title V; Association of Maternal and Child Health Programs; Early Childhood Comprehensive Systems; Maternal\, Infant\, and Early Childhood Home Visiting; Preschool Development Grant Birth Through Five; and similar program leaders – identify potential strategies for their work. After participating in the webinar\, attendees will be able to:   \n\n\n\n\nList the six conditions of systems change.   \n\n\n\nIdentify ways to apply a shift of conditions to early childhood work.    \n\n\n\nDefine conceptual models of systems and systems change.     \n\n\n\n\n \n\n\n\nCEU credits will be available to those who attend the live webinar.   \n\n\n\n\n\n\n\nSpeaker Bios\n\n\n\n\n\nMelissa Passarelli\, MA \n\n\n\nMelissa serves as the associate director of implementation and system-building at the Help Me Grow National Center. Prior to this role\, Melissa served as the director of programs at Docs for Tots where she directed Help Me Grow Long Island\, acted as the local Early Childhood Comprehensive Systems Grant (ECCS) team lead\, provided technical assistance to physicians and other providers on implementing screening initiatives\, and coordinated Help Me Grow efforts across New York State. Melissa was the Centers for Disease Control and Prevention’s (CDC) Act Early Ambassador for New York State from 2019-2022 and has been a board trustee for T1International since 2020.  \n\n\n\nMelissa has an MA in International Disaster Psychology from the University of Denver and a BA in Psychology and Public Policy from The George Washington University. During her education she trained as a trauma therapist and helped establish Denver’s Trauma & Disaster Recovery Clinic\, as well as worked for nonprofits such as First Book that focused on promoting opportunities and outcomes for all. \n\n\n\n\n\n\n\n\n\n\n\n\n\nJennifer Splansky Juster\, MBA  \n\n\n\nJennifer Splansky Juster is executive director of the Collective Impact Forum. She is one of FSG’s leaders in collective impact field building\, has worked on multiple collective impact engagements\, designed training opportunities for thousands of collective impact practitioners\, and frequently speaks on the topic. Jennifer has co-authored multiple publications on collective impact\, including the articles “Committing to Collective Impact: From Vision to Implementation” and “Essential Mindset Shifts for Collective Impact.” \n\n\n\nOver the course of her career\, Jennifer has also worked with a range of foundations\, nonprofits\, government agencies\, and corporations across sectors on issues of strategy\, evaluation\, and program design. Former clients include the Bill & Melinda Gates Foundation\, Conrad N. Hilton Foundation\, Marin Community Foundation\, Girard College\, David and Lucile Packard Foundation\, and Silicon Valley ALLIES.  \n\n\n\nA California native\, Jennifer is a graduate of Stanford University and Northwestern’s Kellogg School of Management. She lives in Berkeley\, California with her husband and two daughters. 
URL:https://earlychildhoodimpact.org/event/systems-change-in-early-childhood-using-the-water-of-systems-change-framework/
LOCATION:Virtual
ATTACH;FMTTYPE=image/jpeg:https://earlychildhoodimpact.org/wp-content/uploads/2024/04/shutterstock_794064370-scaled.jpg
END:VEVENT
END:VCALENDAR